BEGIN:VCALENDAR
VERSION:2.0
PRODID:-//swoogo.com//NONSGML kigkonsult.se iCalcreator 2.41.90//
CALSCALE:GREGORIAN
UID:31363130-3238-4237-a364-333763663233
BEGIN:VEVENT
UID:3da40fe515f15ee3b881f1155d639f99b68a33b6@swoogo.com
DTSTAMP:20260420T195641Z
DESCRIPTION:Americas Quadient Kick Off 2018
DTSTART:20180307T000000Z
DTEND:20180330T160000Z
LAST-MODIFIED:20260420T195641Z
LOCATION:Fairmont Chateau Lake Louise\, 111 Lake Louise Drive\, Lake Louise
  AB T0L 1E0\, Canada
SEQUENCE:0
STATUS:CONFIRMED
SUMMARY:Quadient Americas FY 18 Kick Off
TRANSP:OPAQUE
X-ALT-DESC;FMTTYPE=text/html:<div>Americas Quadient Kick Off 2018</div>
BEGIN:VALARM
UID:65306431-6565-4365-b830-666164343565
ACTION:DISPLAY
DESCRIPTION:Americas Quadient Kick Off 2018
TRIGGER:-PT15M
END:VALARM
END:VEVENT
END:VCALENDAR
